BEGIN:VCALENDAR
VERSION:2.0
METHOD:PUBLISH
X-WR-CALNAME;VALUE=TEXT:
PRODID:-//Drupal iCal API//EN
BEGIN:VEVENT
2026-05-12 03:00:00 AEST
2026-05-12 04:00:00 AEST
DTSTART:20260511T170000Z
DTEND:20260511T180000Z
SUMMARY:Art &amp; Design Forum | Dr Suzie Fraser
UID:85b589ba-c5ce-4256-ae89-e72e53e1ecc2
URL:https://soad.cass.anu.edu.au/events/art-design-forum-dr-suzie-fraser
END:VEVENT
END:VCALENDAR
